BEGIN:VCALENDAR
VERSION:2.0
PRODID:-//wp-events-plugin.com//7.2.3.1//EN
TZID:Europe/Paris
X-WR-TIMEZONE:Europe/Paris
BEGIN:VEVENT
UID:406@scod-cyclosport.fr
DTSTART;TZID=Europe/Paris:20240720T090000
DTEND;TZID=Europe/Paris:20240720T121500
DTSTAMP:20240718T111728Z
URL:https://www.scod-cyclosport.fr/events/boucle-skoda-chez-db-auto-21/
SUMMARY:Boucle ŠKODA DB Auto 21
DESCRIPTION:Préparez-vous pour une aventure cycliste inoubliable avec le C
 lub ŠKODA Bourgogne Franche-Comté !\n\nAvec un parcours de 45 km et un d
 énivelé positif de 400 m\, cette sortie est l'occasion idéale pour s'im
 merger dans le monde du cyclisme.\n\nLe point de rendez-vous est fixé à 
 9h00 à la concession Škoda au 51 rue de Longvic\, 21300 CHENÔVE\, où v
 ous pourrez profiter d'un petit déjeuner convivial avant de prendre la ro
 ute à 9h30.\n\nN'oubliez pas votre casque\, c'est obligatoire pour votre 
 sécurité\, ainsi qu'un kit de réparation pour parer à toute éventuali
 té de crevaison.\n\nLe respect du code de la route est essentiel pour une
  expérience agréable et sûre.\n\nCes sorties sont gratuites et ouvertes
  à tous\, alors n'hésitez pas à vous inscrire et à confirmer votre par
 ticipation via Strava ou Facebook.\n\nC'est une belle opportunité de renc
 ontrer d'autres passionnés de vélo et de profiter des paysages magnifiqu
 es que la région a à offrir.\n\nEnfourchez votre vélo et rejoignez-nous
  pour une journée de plaisir et d'activité physique !\n[Waymark map_id="
 9141"]
ATTACH;FMTTYPE=image/jpeg:https://www.scod-cyclosport.fr/wp-content/upload
 s/2024/07/large.png
CATEGORIES:Entrainements
LOCATION:Skoda Dijon - DB Auto\, 51 rue Longvic\, Chenove\, 21300\, France
GEO:47.285881;5.020666
X-APPLE-STRUCTURED-LOCATION;VALUE=URI;X-ADDRESS=51 rue Longvic\, Chenove\, 
 21300\, France;X-APPLE-RADIUS=100;X-TITLE=Skoda Dijon - DB Auto:geo:47.285
 881,5.020666
END:VEVENT
BEGIN:VTIMEZONE
TZID:Europe/Paris
X-LIC-LOCATION:Europe/Paris
BEGIN:DAYLIGHT
DTSTART:20240331T030000
TZOFFSETFROM:+0100
TZOFFSETTO:+0200
TZNAME:CEST
END:DAYLIGHT
END:VTIMEZONE
END:VCALENDAR