BEGIN:VCALENDAR
VERSION:2.0
PRODID:-//wp-events-plugin.com//7.2.3.1//EN
TZID:Europe/Paris
X-WR-TIMEZONE:Europe/Paris
BEGIN:VEVENT
UID:281@scod-cyclosport.fr
DTSTART;TZID=Europe/Paris:20230729T073000
DTEND;TZID=Europe/Paris:20230729T123000
DTSTAMP:20230724T082052Z
URL:https://www.scod-cyclosport.fr/events/courir-pour-la-paix-2023/
SUMMARY:Courir Pour La Paix 2023
DESCRIPTION:Afin de réserver votre samedi matin\, GRATUIT pour les membres
  du SCOD.\n
ATTACH;FMTTYPE=image/jpeg:https://www.scod-cyclosport.fr/wp-content/upload
 s/2023/07/CPLP23-e1688964401445.jpg
CATEGORIES:Courses
LOCATION:Chailly-sur-Armançon\, Château de Chailly-sur-Armançon\, Chaill
 y-sur-Armançon\, Bourgogne-Franche-Comté\, 21320\, Côte-d'Or\, France
GEO:47.272543;4.489245
X-APPLE-STRUCTURED-LOCATION;VALUE=URI;X-ADDRESS=Château de Chailly-sur-Arm
 ançon\, Chailly-sur-Armançon\, Bourgogne-Franche-Comté\, 21320\, Côte-
 d'Or\, France;X-APPLE-RADIUS=100;X-TITLE=Chailly-sur-Armançon:geo:47.2725
 43,4.489245
END:VEVENT
BEGIN:VTIMEZONE
TZID:Europe/Paris
X-LIC-LOCATION:Europe/Paris
BEGIN:DAYLIGHT
DTSTART:20230326T030000
TZOFFSETFROM:+0100
TZOFFSETTO:+0200
TZNAME:CEST
END:DAYLIGHT
END:VTIMEZONE
END:VCALENDAR