BEGIN:VCALENDAR
VERSION:2.0
PRODID:-//wp-events-plugin.com//7.2.3.1//EN
TZID:Europe/Paris
X-WR-TIMEZONE:Europe/Paris
BEGIN:VEVENT
UID:68@scod-cyclosport.fr
DTSTART;TZID=Europe/Paris;VALUE=DATE:20220403
DTEND;TZID=Europe/Paris;VALUE=DATE:20220404
DTSTAMP:20220130T192034Z
URL:https://www.scod-cyclosport.fr/events/cyclosportive-la-bisou/
SUMMARY:Cyclosportive La Bisou
DESCRIPTION:Programme de la journée\n\n\n 	De 7h à 9h – Accueil des co
 ureurs – Café &amp\; croissant offerts.\n 	9h – Départ de la Bisou
  141 Km.\n 	9h30 – Départ de la petite Bisou 75 Km.\n 	9h30 – Dé
 part de la randonnée Bisou 27 Km\n 	11h – 15h30 – Arrivée des coure
 urs.\n\nA partir de 11h30 – REPAS – PASTA PARTY !\n\n 	13h30 – Pho
 tos reportages – Possibilité d’achats de photos souvenir.\n 	14h00 
 – Remise des prix – Uniquement pour les coureurs présents.\n\nUn clas
 sement SCRATCH avec de nombreux lots avec maillot jaune au vainqueur\nUn
  classement de la MONTAGNE avec un maillot offert au vainqueur + lot\nUn
  classement du meilleur coureur de l’AGLOO avec un maillot offert au va
 inqueur + lot\nUn classement du meilleur jeune de moins de 23 ans avec un 
 maillot offert + lot\nUn classement scratch DAMES avec un maillot offert
  + lot\nUn classement du club le plus représenté.\nUn classement entrepr
 ise sur les 3 meilleurs coureurs inscrits sous le nom de leur entreprise.\
 n\n
CATEGORIES:Courses
LOCATION:Péronnas\, Salle des Fêtes\, Péronnas\, Région Rhône-Alpes\, 
 01960\, Ain\, France
GEO:46.177904;5.208757
X-APPLE-STRUCTURED-LOCATION;VALUE=URI;X-ADDRESS=Salle des Fêtes\, Péronna
 s\, Région Rhône-Alpes\, 01960\, Ain\, France;X-APPLE-RADIUS=100;X-TITLE
 =Péronnas:geo:46.177904,5.208757
END:VEVENT
BEGIN:VTIMEZONE
TZID:Europe/Paris
X-LIC-LOCATION:Europe/Paris
BEGIN:DAYLIGHT
DTSTART:20220327T030000
TZOFFSETFROM:+0100
TZOFFSETTO:+0200
TZNAME:CEST
END:DAYLIGHT
END:VTIMEZONE
END:VCALENDAR