BEGIN:VCALENDAR
VERSION:2.0
PRODID:-//wp-events-plugin.com//7.2.3.1//EN
TZID:Europe/Paris
X-WR-TIMEZONE:Europe/Paris
BEGIN:VEVENT
UID:396@scod-cyclosport.fr
DTSTART;TZID=Europe/Paris:20240622T090000
DTEND;TZID=Europe/Paris:20240622T120000
DTSTAMP:20240621T065117Z
URL:https://www.scod-cyclosport.fr/events/la-boucle-skoda-de-db-auto-21/
SUMMARY:La Boucle Skoda de DB Auto 21
DESCRIPTION:Délégation SCOD avec DresSCOD comme l'année dernière\nMerci
  de vous inscrire sur le site : https://www.strava.com/clubs/587615/group_
 events/1660543\nLe site des boucles Škoda : Les Boucles Škoda | Škoda W
 e Love Cycling (skodawelovecycling.fr)\nLe circuit :\n[Waymark map_id="908
 0"]\n
ATTACH;FMTTYPE=image/jpeg:https://www.scod-cyclosport.fr/wp-content/upload
 s/2024/06/363295768_937099347479168_1634512653109416568_n-e1718388350136.j
 pg
CATEGORIES:Randos
LOCATION:Skoda Dijon - DB Auto\, 51 rue Longvic\, Chenove\, 21300\, France
GEO:47.285881;5.020666
X-APPLE-STRUCTURED-LOCATION;VALUE=URI;X-ADDRESS=51 rue Longvic\, Chenove\, 
 21300\, France;X-APPLE-RADIUS=100;X-TITLE=Skoda Dijon - DB Auto:geo:47.285
 881,5.020666
END:VEVENT
BEGIN:VTIMEZONE
TZID:Europe/Paris
X-LIC-LOCATION:Europe/Paris
BEGIN:DAYLIGHT
DTSTART:20240331T030000
TZOFFSETFROM:+0100
TZOFFSETTO:+0200
TZNAME:CEST
END:DAYLIGHT
END:VTIMEZONE
END:VCALENDAR