BEGIN:VCALENDAR
VERSION:2.0
PRODID:-//wp-events-plugin.com//7.2.3.1//EN
TZID:Europe/Paris
X-WR-TIMEZONE:Europe/Paris
BEGIN:VEVENT
UID:260@scod-cyclosport.fr
DTSTART;TZID=Europe/Paris:20230603T090000
DTEND;TZID=Europe/Paris:20230603T123000
DTSTAMP:20230529T163617Z
URL:https://www.scod-cyclosport.fr/events/la-claudio-chiappucci-du-samedi-
 3-juin/
SUMMARY:La Claudio CHIAPPUCCI du samedi 3 juin
DESCRIPTION:Contacter le Scoach pour organiser le covoiturage
ATTACH;FMTTYPE=image/jpeg:https://www.scod-cyclosport.fr/wp-content/upload
 s/2023/05/Accueil-2023-03-13-11-35-09-e1685289851189.jpg
CATEGORIES:Courses
LOCATION:Base de Loisirs de l'étang Fouché\, rue du 8 mai 1945\, Arnay-le
 -Duc\, Bourgogne-Franche-Comté\, 21230\, Côte-d'Or\, France
GEO:47.133602;4.495533
X-APPLE-STRUCTURED-LOCATION;VALUE=URI;X-ADDRESS=rue du 8 mai 1945\, Arnay-l
 e-Duc\, Bourgogne-Franche-Comté\, 21230\, Côte-d'Or\, France;X-APPLE-RAD
 IUS=100;X-TITLE=Base de Loisirs de l'étang Fouché:geo:47.133602,4.495533
END:VEVENT
BEGIN:VTIMEZONE
TZID:Europe/Paris
X-LIC-LOCATION:Europe/Paris
BEGIN:DAYLIGHT
DTSTART:20230326T030000
TZOFFSETFROM:+0100
TZOFFSETTO:+0200
TZNAME:CEST
END:DAYLIGHT
END:VTIMEZONE
END:VCALENDAR