BEGIN:VCALENDAR
VERSION:2.0
PRODID:-//wp-events-plugin.com//7.2.3.1//EN
TZID:Europe/Paris
X-WR-TIMEZONE:Europe/Paris
BEGIN:VEVENT
UID:300@scod-cyclosport.fr
DTSTART;TZID=Europe/Paris:20230917T090000
DTEND;TZID=Europe/Paris:20230917T120000
DTSTAMP:20230913T190639Z
URL:https://www.scod-cyclosport.fr/events/la-cote-dorienne-2/
SUMMARY:La Côte d'Orienne
DESCRIPTION:
ATTACH;FMTTYPE=image/jpeg:https://www.scod-cyclosport.fr/wp-content/upload
 s/2023/09/230421112913n4zyx95ey1eewas2v073t86-scaled.jpg
CATEGORIES:Courses
LOCATION:ASPTT Dijon\, 24\, rue François Mitterrand\, Saint-Appolinaire\, 
 Région Bourgogne\, 21850\, Côte-d'Or\, France
GEO:47.331137;5.092582
X-APPLE-STRUCTURED-LOCATION;VALUE=URI;X-ADDRESS=24\, rue François Mitterra
 nd\, Saint-Appolinaire\, Région Bourgogne\, 21850\, Côte-d'Or\, France;X
 -APPLE-RADIUS=100;X-TITLE=ASPTT Dijon:geo:47.331137,5.092582
END:VEVENT
BEGIN:VTIMEZONE
TZID:Europe/Paris
X-LIC-LOCATION:Europe/Paris
BEGIN:DAYLIGHT
DTSTART:20230326T030000
TZOFFSETFROM:+0100
TZOFFSETTO:+0200
TZNAME:CEST
END:DAYLIGHT
END:VTIMEZONE
END:VCALENDAR