BEGIN:VCALENDAR
VERSION:2.0
PRODID:-//wp-events-plugin.com//7.2.3.1//EN
TZID:Europe/Paris
X-WR-TIMEZONE:Europe/Paris
BEGIN:VEVENT
UID:240@scod-cyclosport.fr
DTSTART;TZID=Europe/Paris:20230423T084500
DTEND;TZID=Europe/Paris:20230423T120000
DTSTAMP:20230419T071735Z
URL:https://www.scod-cyclosport.fr/events/la-cyclo-sud-bourgogne/
SUMMARY:La Cyclo Sud Bourgogne
DESCRIPTION:&nbsp\;\n\n\n\n3EME ÉDITION DE LA CYCLO SUD BOURGOGNE !\n\n\n\
 n\nCréée en 2007\, la Bourguignonne a fait son retour en 2021 sous une n
 ouvelle identité avec la Cyclo Sud Bourgogne !\nAvec plus de 650 cycliste
 s au départ\, la dernière édition de la Cyclo Sud Bourgogne a été une
  véritable réussite !\nCette année\, l'épreuve se développe et passe 
 sur deux jours\, avec deux parcours de cyclotourisme et un parcours gravel
  le samedi et trois parcours rando &amp\; chrono le dimanche.\nLa Cyclo Su
 d Bourgogne est organisée par l'association Cyclo Sud Bourgogne basée à
  Tournus (71).\n\n\n\n\n
ATTACH;FMTTYPE=image/jpeg:https://www.scod-cyclosport.fr/wp-content/upload
 s/2023/04/illustration-cyclo-sud-bourgogne_1-1681207640-e1681755917903.jpg
CATEGORIES:Courses
LOCATION:Viré-en-Mâconnais\, Rue René Boudier\, Viré\, Bourgogne-Franch
 e-Comté\, 71260\, Saône-et-Loire\, France
GEO:46.448809;4.846725
X-APPLE-STRUCTURED-LOCATION;VALUE=URI;X-ADDRESS=Rue René Boudier\, Viré\,
  Bourgogne-Franche-Comté\, 71260\, Saône-et-Loire\, France;X-APPLE-RADIU
 S=100;X-TITLE=Viré-en-Mâconnais:geo:46.448809,4.846725
END:VEVENT
BEGIN:VTIMEZONE
TZID:Europe/Paris
X-LIC-LOCATION:Europe/Paris
BEGIN:DAYLIGHT
DTSTART:20230326T030000
TZOFFSETFROM:+0100
TZOFFSETTO:+0200
TZNAME:CEST
END:DAYLIGHT
END:VTIMEZONE
END:VCALENDAR