BEGIN:VCALENDAR
VERSION:2.0
PRODID:-//wp-events-plugin.com//7.2.3.1//EN
TZID:Europe/Paris
X-WR-TIMEZONE:Europe/Paris
BEGIN:VEVENT
UID:543@scod-cyclosport.fr
DTSTART;TZID=Europe/Paris:20250824T080000
DTEND;TZID=Europe/Paris:20250824T120000
DTSTAMP:20250821T062756Z
URL:https://www.scod-cyclosport.fr/events/la-louis-pasteur-du-24-aout/
SUMMARY:La Louis PASTEUR du 24 août
DESCRIPTION:
ATTACH;FMTTYPE=image/jpeg:https://www.scod-cyclosport.fr/wp-content/upload
 s/2025/08/Affiche-pasteur-2025.jpg
CATEGORIES:Courses
LOCATION:IME / Sessad Le Bonlieu\, Avenue de Northwich\, Dole\, Bourgogne-F
 ranche-Comté\, 39100\, Jura\, France
GEO:47.096516;5.498421
X-APPLE-STRUCTURED-LOCATION;VALUE=URI;X-ADDRESS=Avenue de Northwich\, Dole\
 , Bourgogne-Franche-Comté\, 39100\, Jura\, France;X-APPLE-RADIUS=100;X-TI
 TLE=IME / Sessad Le Bonlieu:geo:47.096516,5.498421
END:VEVENT
BEGIN:VTIMEZONE
TZID:Europe/Paris
X-LIC-LOCATION:Europe/Paris
BEGIN:DAYLIGHT
DTSTART:20250330T030000
TZOFFSETFROM:+0100
TZOFFSETTO:+0200
TZNAME:CEST
END:DAYLIGHT
END:VTIMEZONE
END:VCALENDAR