BEGIN:VCALENDAR
VERSION:2.0
PRODID:-//wp-events-plugin.com//7.2.3.1//EN
TZID:Europe/Paris
X-WR-TIMEZONE:Europe/Paris
BEGIN:VEVENT
UID:301@scod-cyclosport.fr
DTSTART;TZID=Europe/Paris:20230917T083000
DTEND;TZID=Europe/Paris:20230917T120000
DTSTAMP:20230915T131739Z
URL:https://www.scod-cyclosport.fr/events/la-transju/
SUMMARY:La TransJu
DESCRIPTION:Attention côte de Thésy à 19.4%\n
ATTACH;FMTTYPE=image/jpeg:https://www.scod-cyclosport.fr/wp-content/upload
 s/2023/09/web-affiche-la-transju-cyclo-2023.jpg
CATEGORIES:Courses
LOCATION:Oppidum de Champagnole\, 1\, rue de l'Egalité\, Champagnole\, Ré
 gion Franche-Comté\, 39300\, Jura\, France
GEO:46.747473;5.909936
X-APPLE-STRUCTURED-LOCATION;VALUE=URI;X-ADDRESS=1\, rue de l'Egalité\, Cha
 mpagnole\, Région Franche-Comté\, 39300\, Jura\, France;X-APPLE-RADIUS=1
 00;X-TITLE=Oppidum de Champagnole:geo:46.747473,5.909936
END:VEVENT
BEGIN:VTIMEZONE
TZID:Europe/Paris
X-LIC-LOCATION:Europe/Paris
BEGIN:DAYLIGHT
DTSTART:20230326T030000
TZOFFSETFROM:+0100
TZOFFSETTO:+0200
TZNAME:CEST
END:DAYLIGHT
END:VTIMEZONE
END:VCALENDAR