BEGIN:VCALENDAR
VERSION:2.0
PRODID:-//wp-events-plugin.com//7.2.3.1//EN
TZID:Europe/Paris
X-WR-TIMEZONE:Europe/Paris
BEGIN:VEVENT
UID:255@scod-cyclosport.fr
DTSTART;TZID=Europe/Paris:20230528T081500
DTEND;TZID=Europe/Paris:20230528T124500
DTSTAMP:20230523T123044Z
URL:https://www.scod-cyclosport.fr/events/la-vache-qui-rit-du-dimanche-28-
 mai-2/
SUMMARY:La Vache Qui Rit du dimanche 28 mai
DESCRIPTION:
ATTACH;FMTTYPE=image/jpeg:https://www.scod-cyclosport.fr/wp-content/upload
 s/2023/05/CYCLOSPORTIVE-VQR-BROCHURE_page-0001-1087x1536-1-e1684790928175.
 jpg
CATEGORIES:Courses
LOCATION:JuraParc Lons-le-Saunier\, JuraParc\, Montmorot\, Bourgogne-Franch
 e-Comté\, 39570\, Jura\, France
GEO:46.675909;5.539371
X-APPLE-STRUCTURED-LOCATION;VALUE=URI;X-ADDRESS=JuraParc\, Montmorot\, Bour
 gogne-Franche-Comté\, 39570\, Jura\, France;X-APPLE-RADIUS=100;X-TITLE=Ju
 raParc Lons-le-Saunier:geo:46.675909,5.539371
END:VEVENT
BEGIN:VTIMEZONE
TZID:Europe/Paris
X-LIC-LOCATION:Europe/Paris
BEGIN:DAYLIGHT
DTSTART:20230326T030000
TZOFFSETFROM:+0100
TZOFFSETTO:+0200
TZNAME:CEST
END:DAYLIGHT
END:VTIMEZONE
END:VCALENDAR