BEGIN:VCALENDAR
VERSION:2.0
PRODID:-//wp-events-plugin.com//7.2.3.1//EN
TZID:Europe/Paris
X-WR-TIMEZONE:Europe/Paris
BEGIN:VEVENT
UID:393@scod-cyclosport.fr
DTSTART;TZID=Europe/Paris:20240608T133000
DTEND;TZID=Europe/Paris:20240608T164500
DTSTAMP:20240605T154130Z
URL:https://www.scod-cyclosport.fr/events/les-boucles-de-lespoir-contre-le
 -cancer/
SUMMARY:Les Boucles de l'Espoir contre le cancer
DESCRIPTION:
CATEGORIES:Entrainements
LOCATION:Espace Patriarche\, Espace Jean Claude Patriarche\, Pouilly-en-Aux
 ois\, 21320\, France
GEO:47.262446;4.557096
X-APPLE-STRUCTURED-LOCATION;VALUE=URI;X-ADDRESS=Espace Jean Claude Patriarc
 he\, Pouilly-en-Auxois\, 21320\, France;X-APPLE-RADIUS=100;X-TITLE=Espace 
 Patriarche:geo:47.262446,4.557096
END:VEVENT
BEGIN:VTIMEZONE
TZID:Europe/Paris
X-LIC-LOCATION:Europe/Paris
BEGIN:DAYLIGHT
DTSTART:20240331T030000
TZOFFSETFROM:+0100
TZOFFSETTO:+0200
TZNAME:CEST
END:DAYLIGHT
END:VTIMEZONE
END:VCALENDAR