BEGIN:VCALENDAR
VERSION:2.0
PRODID:-//wp-events-plugin.com//7.2.3.1//EN
TZID:Europe/Paris
X-WR-TIMEZONE:Europe/Paris
BEGIN:VEVENT
UID:544@scod-cyclosport.fr
DTSTART;TZID=Europe/Paris:20250830T084500
DTEND;TZID=Europe/Paris:20250830T123000
DTSTAMP:20250829T090548Z
URL:https://www.scod-cyclosport.fr/events/les-boucles-skoda-du-samedi-30-a
 out/
SUMMARY:Les Boucles Skoda du samedi 30 août
DESCRIPTION:⭐⭐ De quoi s’agit-il ? Au programme\, deux belles boucles
  vallonnées de 80 et 74km au cœur des vignes au sud de Dijon 🍇\, avec
  plusieurs bosses pour un niveau expérimenté.\n\nLes 2 groupes seront d
 épartagés par niveaux :\n- G1 : 80km 1050D+ @ 27-28km/h\n- G2 : 74km 820
 D+ @ 24-25km/h\n\n🎯 Pour qui ? Ouvert à tout cycliste de la région pr
 êt à nous rejoindre\, ayant un niveau expérimenté permettant de réali
 ser les parcours aux allures indiquées (sachant qu'en groupe\, c'est touj
 ours plus facile : si vous roulez 2km/h moins vite solo\, vous pourrez sui
 vre le groupe sans problème). On s'attend au dessus des bosses et je rest
 e en arrière du peloton dans les bosses pour vous accompagner. D'autres s
 orties niveau intermédiaire sont proposés au cours de l'année le cas é
 chéant.\n\n📍 Où ? Départ de la concession Skoda\, 51 rue de Longvy\,
  21300 Chenôve au sud de Dijon. Un accueil café et un petit ravitailleme
 nt seront proposés au retour à la concession.\n\n📅 Quand ? Samedi 30 
 août 8h45 (départ prévu 9h)\n✅️ Inscription obligatoire via ce form
 ulaire (à chaque sortie skoda):\nhttps://skodawelovecycling.fr/inscriptio
 ns-bfc/\nBouclette Skoda de 74km\n[Waymark map_id="10608"]\nBoucle Skoda d
 e 80km\n[Waymark map_id="10604"]
ATTACH;FMTTYPE=image/jpeg:https://www.scod-cyclosport.fr/wp-content/upload
 s/2025/08/F7aMyojFjyOnLa-fRh9rYHgxhHaZwkTFroJUPPlCE70-1545x2048-1.jpg
CATEGORIES:Randos
LOCATION:Skoda Dijon - DB Auto\, 51 rue Longvic\, Chenove\, 21300\, France
GEO:47.285881;5.020666
X-APPLE-STRUCTURED-LOCATION;VALUE=URI;X-ADDRESS=51 rue Longvic\, Chenove\, 
 21300\, France;X-APPLE-RADIUS=100;X-TITLE=Skoda Dijon - DB Auto:geo:47.285
 881,5.020666
END:VEVENT
BEGIN:VTIMEZONE
TZID:Europe/Paris
X-LIC-LOCATION:Europe/Paris
BEGIN:DAYLIGHT
DTSTART:20250330T030000
TZOFFSETFROM:+0100
TZOFFSETTO:+0200
TZNAME:CEST
END:DAYLIGHT
END:VTIMEZONE
END:VCALENDAR