BEGIN:VCALENDAR
VERSION:2.0
PRODID:-//wp-events-plugin.com//7.2.3.1//EN
TZID:Europe/Paris
X-WR-TIMEZONE:Europe/Paris
BEGIN:VEVENT
UID:258@scod-cyclosport.fr
DTSTART;TZID=Europe/Paris:20230527T133000
DTEND;TZID=Europe/Paris:20230527T173000
DTSTAMP:20230525T120310Z
URL:https://www.scod-cyclosport.fr/events/les-parcours-du-coeur-a-st-julie
 n/
SUMMARY:Les Parcours du Coeur à St. Julien
DESCRIPTION:
ATTACH;FMTTYPE=image/jpeg:https://www.scod-cyclosport.fr/wp-content/upload
 s/2023/05/347381916_754715499719337_6354762148920139296_n-e1684478908409.j
 pg
CATEGORIES:Entrainements
LOCATION:Vélodrome\, Boulevard Paul Doumer\, Dijon\, Bourgogne-Franche-Com
 té\, 21000\, Côte-d'Or\, France
GEO:47.32672;5.067176
X-APPLE-STRUCTURED-LOCATION;VALUE=URI;X-ADDRESS=Boulevard Paul Doumer\, Dij
 on\, Bourgogne-Franche-Comté\, 21000\, Côte-d'Or\, France;X-APPLE-RADIUS
 =100;X-TITLE=Vélodrome:geo:47.32672,5.067176
END:VEVENT
BEGIN:VTIMEZONE
TZID:Europe/Paris
X-LIC-LOCATION:Europe/Paris
BEGIN:DAYLIGHT
DTSTART:20230326T030000
TZOFFSETFROM:+0100
TZOFFSETTO:+0200
TZNAME:CEST
END:DAYLIGHT
END:VTIMEZONE
END:VCALENDAR