BEGIN:VCALENDAR
VERSION:2.0
PRODID:-//wp-events-plugin.com//7.2.3.1//EN
TZID:Europe/Paris
X-WR-TIMEZONE:Europe/Paris
BEGIN:VEVENT
UID:508@scod-cyclosport.fr
DTSTART;TZID=Europe/Paris:20250524T130000
DTEND;TZID=Europe/Paris:20250524T170000
DTSTAMP:20250521T152833Z
URL:https://www.scod-cyclosport.fr/events/parcours-du-coeur-2025/
SUMMARY:Parcours du Cœur 2025
DESCRIPTION:[Waymark map_id="10210"]\n\n&nbsp\;\n\nhttps://connect.garmin.c
 om/modern/course/358571905\n\n&nbsp\;\n\nFlyerParcoursduCoeur_24mai
ATTACH;FMTTYPE=image/jpeg:https://www.scod-cyclosport.fr/wp-content/upload
 s/2025/05/programme-2025-Parcours-du-coeur-e1746858308617.jpg
CATEGORIES:Randos
LOCATION:Salle Polyvalente\, 5 rue des Ecoles \, Asnières-les-Dijon\, Rég
 ion Bourgogne\, 21121\, France
GEO:47.385947;5.046828
X-APPLE-STRUCTURED-LOCATION;VALUE=URI;X-ADDRESS=5 rue des Ecoles \, Asnièr
 es-les-Dijon\, Région Bourgogne\, 21121\, France;X-APPLE-RADIUS=100;X-TIT
 LE=Salle Polyvalente:geo:47.385947,5.046828
END:VEVENT
BEGIN:VTIMEZONE
TZID:Europe/Paris
X-LIC-LOCATION:Europe/Paris
BEGIN:DAYLIGHT
DTSTART:20250330T030000
TZOFFSETFROM:+0100
TZOFFSETTO:+0200
TZNAME:CEST
END:DAYLIGHT
END:VTIMEZONE
END:VCALENDAR