BEGIN:VCALENDAR
VERSION:2.0
PRODID:-//wp-events-plugin.com//7.2.3.1//EN
TZID:Europe/Paris
X-WR-TIMEZONE:Europe/Paris
BEGIN:VEVENT
UID:302@scod-cyclosport.fr
DTSTART;TZID=Europe/Paris:20230924T083000
DTEND;TZID=Europe/Paris:20230924T123000
DTSTAMP:20230921T164307Z
URL:https://www.scod-cyclosport.fr/events/rallye-des-vendanges/
SUMMARY:Rallye des vendanges
DESCRIPTION:Rdvs à 8h15 pour un départ à 8h30\n&nbsp\;\nPour vous inscri
 re (12€) :\nhttps://www.helloasso.com/associations/chantalistes-sport-et
 -culture-section-cyclotourisme/evenements/46eme-rallye-des-vendanges-dijon
 -2023\n&nbsp\;\n\n
ATTACH;FMTTYPE=image/jpeg:https://www.scod-cyclosport.fr/wp-content/upload
 s/2023/09/Rallye-vendanges.jpg
CATEGORIES:Entrainements
LOCATION:Siège des Chantalistes\, 26 avenue Gustave EIFFEL\, Dijon\, Bourg
 ogne-Franche-Comté\, 21000\, Côte-d'Or\, France
GEO:47.314973;5.022005
X-APPLE-STRUCTURED-LOCATION;VALUE=URI;X-ADDRESS=26 avenue Gustave EIFFEL\, 
 Dijon\, Bourgogne-Franche-Comté\, 21000\, Côte-d'Or\, France;X-APPLE-RAD
 IUS=100;X-TITLE=Siège des Chantalistes:geo:47.314973,5.022005
END:VEVENT
BEGIN:VTIMEZONE
TZID:Europe/Paris
X-LIC-LOCATION:Europe/Paris
BEGIN:DAYLIGHT
DTSTART:20230326T030000
TZOFFSETFROM:+0100
TZOFFSETTO:+0200
TZNAME:CEST
END:DAYLIGHT
END:VTIMEZONE
END:VCALENDAR