BEGIN:VCALENDAR
VERSION:2.0
PRODID:-//wp-events-plugin.com//7.2.3.1//EN
TZID:Europe/Paris
X-WR-TIMEZONE:Europe/Paris
BEGIN:VEVENT
UID:298@scod-cyclosport.fr
DTSTART;TZID=Europe/Paris:20230916T084500
DTEND;TZID=Europe/Paris:20230916T120000
DTSTAMP:20230913T185932Z
URL:https://www.scod-cyclosport.fr/events/rando-sportive-luigi-maggioni/
SUMMARY:Rando Sportive Luigi MAGGIONI
DESCRIPTION:Rendez-vous à 8h45\n[caption id="attachment_8121" align="align
 center" width="600"] 7-ème rando sportive Souvenir Luigi Maggioni[/captio
 n]\n\n&nbsp\;
ATTACH;FMTTYPE=image/jpeg:https://www.scod-cyclosport.fr/wp-content/upload
 s/2023/09/Rando-MAGGIONI-2023.jpg
CATEGORIES:Entrainements
LOCATION:Vélodrome\, Boulevard Paul Doumer\, Dijon\, Bourgogne-Franche-Com
 té\, 21000\, Côte-d'Or\, France
GEO:47.32672;5.067176
X-APPLE-STRUCTURED-LOCATION;VALUE=URI;X-ADDRESS=Boulevard Paul Doumer\, Dij
 on\, Bourgogne-Franche-Comté\, 21000\, Côte-d'Or\, France;X-APPLE-RADIUS
 =100;X-TITLE=Vélodrome:geo:47.32672,5.067176
END:VEVENT
BEGIN:VTIMEZONE
TZID:Europe/Paris
X-LIC-LOCATION:Europe/Paris
BEGIN:DAYLIGHT
DTSTART:20230326T030000
TZOFFSETFROM:+0100
TZOFFSETTO:+0200
TZNAME:CEST
END:DAYLIGHT
END:VTIMEZONE
END:VCALENDAR