BEGIN:VCALENDAR
VERSION:2.0
PRODID:-//wp-events-plugin.com//7.2.3.1//EN
TZID:Europe/Paris
X-WR-TIMEZONE:Europe/Paris
BEGIN:VEVENT
UID:625@scod-cyclosport.fr
DTSTART;TZID=Europe/Paris:20260426T083000
DTEND;TZID=Europe/Paris:20260426T120000
DTSTAMP:20260423T105020Z
URL:https://www.scod-cyclosport.fr/events/rando-tdf-femme-j-100/
SUMMARY:Rando TDF femme J-100
DESCRIPTION:[Waymark map_id="11549"]\n\nhttps://connect.garmin.com/modern/c
 ourse/451490896\n\n&nbsp\;\nLes infos pratiques :  \n\n\n 	9H00 : Accuei
 l café à Gevrey-Chambertin\, place des Marronniers (agents CD21 + Gevre
 y)\n\n\n 	Émargement\n 	Remise tshirt + ticket conso + plaque de cadre\
 n\n\n 	\n\n 	\n\n 	SCOD et Comité : remise une radio par responsable &gt
 \; Valentin\, Nello\, Benoit\, Pascal (+ 2 ou 3 cyclos)\, Hervé\, Secouri
 stes\, Romane\n\n\n 	9H30 : Discours (élus + ambassadrice)\n 	9H50 : Bri
 efing sécurité pour participants\n 	10H00 : Départ de la randonnée par
  la rue aquatique &gt\; départ groupé en bulle jusqu'à la sortie du vi
 llage (type fictif course)\n\n\n\n\n 	10H20 : Arrêt à la mairie de Marsa
 nnay-la-Côte pour retrouver le peloton des agents de la Métropole\n\n\n 
 	\n\n 	\n\n 	Briefing sécurité par le CoDep Cyclotourisme en amont\n 	&g
 t\; Départ de Marsannay-la Côte groupé en bulle jusqu'à la sortie du v
 illage\n\n\n\n\n\n\n 	11H45 : Repas braséro convivial au parc urbain derr
 ière la piscine du Carrousel (passage Missak et Méliée Manouchian)\n 	
 13H00 : Fin de l'événement\n\n
ATTACH;FMTTYPE=image/jpeg:https://www.scod-cyclosport.fr/wp-content/upload
 s/2026/04/2026-TDF-Femmes-Zwift-.webp
CATEGORIES:Randos
LOCATION:Pont de la Maison éclusière\, Ecluse 52 S des carrières blanche
 s\, Dijon\, Bourgogne-Franche-Comté\, 21000\, Côte-d'Or\, France
GEO:47.323327;5.003402
X-APPLE-STRUCTURED-LOCATION;VALUE=URI;X-ADDRESS=Ecluse 52 S des carrières 
 blanches\, Dijon\, Bourgogne-Franche-Comté\, 21000\, Côte-d'Or\, France;
 X-APPLE-RADIUS=100;X-TITLE=Pont de la Maison éclusière:geo:47.323327,5.0
 03402
END:VEVENT
BEGIN:VTIMEZONE
TZID:Europe/Paris
X-LIC-LOCATION:Europe/Paris
BEGIN:DAYLIGHT
DTSTART:20260329T030000
TZOFFSETFROM:+0100
TZOFFSETTO:+0200
TZNAME:CEST
END:DAYLIGHT
END:VTIMEZONE
END:VCALENDAR