BEGIN:VCALENDAR
VERSION:2.0
PRODID:-//wp-events-plugin.com//7.2.3.1//EN
TZID:Europe/Paris
X-WR-TIMEZONE:Europe/Paris
BEGIN:VEVENT
UID:565@scod-cyclosport.fr
DTSTART;TZID=Europe/Paris:20251103T183000
DTEND;TZID=Europe/Paris:20251103T200000
DTSTAMP:20251019T190251Z
URL:https://www.scod-cyclosport.fr/events/reunion-team-cyclosport-du-lundi
 -3-novembre/
SUMMARY:Réunion Team CycloSport du lundi 3 novembre
DESCRIPTION:Réunion d'échanges sur l'évolution du Team CycloSport.\n\nOu
 vert à toutes et à tous.\n\nPour ceux qui ne peuvent pas s'inscrire sur 
 le site\, merci de me confirmer votre présence pour les quantités à com
 mander chez le traiteur.\n\nCotisation et licence 2026
ATTACH;FMTTYPE=image/jpeg:https://www.scod-cyclosport.fr/wp-content/upload
 s/2025/10/Siege-SCODijon.png
CATEGORIES:Réunions
LOCATION:Palais des Sports Dijon\, 17 Rue Léon Mauris\, Dijon\, Bourgogne-
 Franche-Comté\, 21000\, Côte-d'Or\, France
GEO:47.332299;5.056048
X-APPLE-STRUCTURED-LOCATION;VALUE=URI;X-ADDRESS=17 Rue Léon Mauris\, Dijon
 \, Bourgogne-Franche-Comté\, 21000\, Côte-d'Or\, France;X-APPLE-RADIUS=1
 00;X-TITLE=Palais des Sports Dijon:geo:47.332299,5.056048
END:VEVENT
BEGIN:VTIMEZONE
TZID:Europe/Paris
X-LIC-LOCATION:Europe/Paris
BEGIN:STANDARD
DTSTART:20251026T020000
TZOFFSETFROM:+0200
TZOFFSETTO:+0100
TZNAME:CET
END:STANDARD
END:VTIMEZONE
END:VCALENDAR