BEGIN:VCALENDAR
VERSION:2.0
PRODID:-//wp-events-plugin.com//7.2.3.1//EN
TZID:Europe/Paris
X-WR-TIMEZONE:Europe/Paris
BEGIN:VEVENT
UID:332@scod-cyclosport.fr
DTSTART;TZID=Europe/Paris:20231217T090000
DTEND;TZID=Europe/Paris:20231217T121500
DTSTAMP:20231213T185636Z
URL:https://www.scod-cyclosport.fr/events/sortie-3/
SUMMARY:Sortie dominicale
DESCRIPTION:Merci de me communiquer un parcours\;
ATTACH;FMTTYPE=image/jpeg:https://www.scod-cyclosport.fr/wp-content/upload
 s/2022/05/istockphoto-544330072-612x612-1.jpg
CATEGORIES:Entrainements
LOCATION:Vélodrome\, Boulevard Paul Doumer\, Dijon\, Bourgogne-Franche-Com
 té\, 21000\, Côte-d'Or\, France
GEO:47.32672;5.067176
X-APPLE-STRUCTURED-LOCATION;VALUE=URI;X-ADDRESS=Boulevard Paul Doumer\, Dij
 on\, Bourgogne-Franche-Comté\, 21000\, Côte-d'Or\, France;X-APPLE-RADIUS
 =100;X-TITLE=Vélodrome:geo:47.32672,5.067176
END:VEVENT
BEGIN:VTIMEZONE
TZID:Europe/Paris
X-LIC-LOCATION:Europe/Paris
BEGIN:STANDARD
DTSTART:20231029T020000
TZOFFSETFROM:+0200
TZOFFSETTO:+0100
TZNAME:CET
END:STANDARD
END:VTIMEZONE
END:VCALENDAR