BEGIN:VCALENDAR
VERSION:2.0
PRODID:-//wp-events-plugin.com//7.2.3.1//EN
TZID:Europe/Paris
X-WR-TIMEZONE:Europe/Paris
BEGIN:VEVENT
UID:313@scod-cyclosport.fr
DTSTART;TZID=Europe/Paris:20231021T090000
DTEND;TZID=Europe/Paris:20231021T121500
DTSTAMP:20231018T165425Z
URL:https://www.scod-cyclosport.fr/events/sortie-de-la-ste-celine-pour-une
 -oscarabine/
SUMMARY:Sortie de la Ste. Céline pour une Oscarabine
DESCRIPTION:Sortie pour continuer depuis 12 ans dans l'esprit du prophète\
 n\n1) pour le plaisir de pédaler ensemble\n\n2) pour produire des endorph
 ines\n\n3) pour augmenter son espérance de vie de 2.5 ans\n\n4) pour déc
 ouvrir des parcours et des régions\n\n5) pour frotter avec des plus jeune
 s et des plus vieux\n\n6) pour s’initier aux préceptes de vélosophie\n
 \n7) pour partager la tolérance\, la bienveillance et la bonne humeur du 
 groupe\n\n8) pour souffrir dans l’effort sans pour autant se faire mal\n
 \n9) pour se vider la tête et ne pas se la prendre\n\n10) pour se cultive
 r physiquement et intellectuellement\n\n11) pour progresser au contact et 
 avec les coéquipiers\n\n12) pour partager une passion\n\n13) et aussi pou
 r faire du vélo
ATTACH;FMTTYPE=image/jpeg:https://www.scod-cyclosport.fr/wp-content/upload
 s/2022/05/istockphoto-544330072-612x612-1.jpg
CATEGORIES:Entrainements
LOCATION:Pont de la Maison éclusière\, Ecluse 52 S des carrières blanche
 s\, Dijon\, Bourgogne-Franche-Comté\, 21000\, Côte-d'Or\, France
GEO:47.323327;5.003402
X-APPLE-STRUCTURED-LOCATION;VALUE=URI;X-ADDRESS=Ecluse 52 S des carrières 
 blanches\, Dijon\, Bourgogne-Franche-Comté\, 21000\, Côte-d'Or\, France;
 X-APPLE-RADIUS=100;X-TITLE=Pont de la Maison éclusière:geo:47.323327,5.0
 03402
END:VEVENT
BEGIN:VTIMEZONE
TZID:Europe/Paris
X-LIC-LOCATION:Europe/Paris
BEGIN:DAYLIGHT
DTSTART:20230326T030000
TZOFFSETFROM:+0100
TZOFFSETTO:+0200
TZNAME:CEST
END:DAYLIGHT
END:VTIMEZONE
END:VCALENDAR