BEGIN:VCALENDAR
VERSION:2.0
PRODID:-//wp-events-plugin.com//7.2.3.1//EN
TZID:Europe/Paris
X-WR-TIMEZONE:Europe/Paris
BEGIN:VEVENT
UID:328@scod-cyclosport.fr
DTSTART;TZID=Europe/Paris:20231202T090000
DTEND;TZID=Europe/Paris:20231202T121500
DTSTAMP:20231130T123835Z
URL:https://www.scod-cyclosport.fr/events/sortie-de-la-ste-viviane/
SUMMARY:Sortie de la Ste. Viviane
DESCRIPTION:Merci de me proposer un parcours
ATTACH;FMTTYPE=image/jpeg:https://www.scod-cyclosport.fr/wp-content/upload
 s/2023/11/OIG.jpeg
CATEGORIES:Entrainements
LOCATION:Crédit Agricole Ahuy\, 4 Rue Pré Potet\, Ahuy\, Région Bourgogn
 e\, 21121\, Côte-d'Or\, France
GEO:47.357341;5.034556
X-APPLE-STRUCTURED-LOCATION;VALUE=URI;X-ADDRESS=4 Rue Pré Potet\, Ahuy\, R
 égion Bourgogne\, 21121\, Côte-d'Or\, France;X-APPLE-RADIUS=100;X-TITLE=
 Crédit Agricole Ahuy:geo:47.357341,5.034556
END:VEVENT
BEGIN:VTIMEZONE
TZID:Europe/Paris
X-LIC-LOCATION:Europe/Paris
BEGIN:STANDARD
DTSTART:20231029T020000
TZOFFSETFROM:+0200
TZOFFSETTO:+0100
TZNAME:CET
END:STANDARD
END:VTIMEZONE
END:VCALENDAR