BEGIN:VCALENDAR
VERSION:2.0
PRODID:-//wp-events-plugin.com//7.2.3.1//EN
TZID:Europe/Paris
X-WR-TIMEZONE:Europe/Paris
BEGIN:VEVENT
UID:444@scod-cyclosport.fr
DTSTART;TZID=Europe/Paris:20241110T090000
DTEND;TZID=Europe/Paris:20241110T121500
DTSTAMP:20241109T195523Z
URL:https://www.scod-cyclosport.fr/events/sortie-dimanche/
SUMMARY:Sortie dominicale
DESCRIPTION:Groupe en auto-gestion\nParcours proposé par le groupe\n[Wayma
 rk map_id="9522"]
CATEGORIES:Entrainements
LOCATION:Pont de la Maison éclusière\, Ecluse 52 S des carrières blanche
 s\, Dijon\, Bourgogne-Franche-Comté\, 21000\, Côte-d'Or\, France
GEO:47.323327;5.003402
X-APPLE-STRUCTURED-LOCATION;VALUE=URI;X-ADDRESS=Ecluse 52 S des carrières 
 blanches\, Dijon\, Bourgogne-Franche-Comté\, 21000\, Côte-d'Or\, France;
 X-APPLE-RADIUS=100;X-TITLE=Pont de la Maison éclusière:geo:47.323327,5.0
 03402
END:VEVENT
BEGIN:VTIMEZONE
TZID:Europe/Paris
X-LIC-LOCATION:Europe/Paris
BEGIN:STANDARD
DTSTART:20241027T020000
TZOFFSETFROM:+0200
TZOFFSETTO:+0100
TZNAME:CET
END:STANDARD
END:VTIMEZONE
END:VCALENDAR