BEGIN:VCALENDAR
VERSION:2.0
PRODID:-//wp-events-plugin.com//7.2.3.1//EN
TZID:Europe/Paris
X-WR-TIMEZONE:Europe/Paris
BEGIN:VEVENT
UID:394@scod-cyclosport.fr
DTSTART;TZID=Europe/Paris:20240616T083000
DTEND;TZID=Europe/Paris:20240616T120000
DTSTAMP:20240612T175929Z
URL:https://www.scod-cyclosport.fr/events/sortie-dominica-2/
SUMMARY:Sortie dominicale
DESCRIPTION:Merci de me proposer un parcours "plat"
ATTACH;FMTTYPE=image/jpeg:https://www.scod-cyclosport.fr/wp-content/upload
 s/2024/01/velo.jpg
CATEGORIES:Entrainements
LOCATION:Vélodrome\, Boulevard Paul Doumer\, Dijon\, Bourgogne-Franche-Com
 té\, 21000\, Côte-d'Or\, France
GEO:47.32672;5.067176
X-APPLE-STRUCTURED-LOCATION;VALUE=URI;X-ADDRESS=Boulevard Paul Doumer\, Dij
 on\, Bourgogne-Franche-Comté\, 21000\, Côte-d'Or\, France;X-APPLE-RADIUS
 =100;X-TITLE=Vélodrome:geo:47.32672,5.067176
END:VEVENT
BEGIN:VTIMEZONE
TZID:Europe/Paris
X-LIC-LOCATION:Europe/Paris
BEGIN:DAYLIGHT
DTSTART:20240331T030000
TZOFFSETFROM:+0100
TZOFFSETTO:+0200
TZNAME:CEST
END:DAYLIGHT
END:VTIMEZONE
END:VCALENDAR