BEGIN:VCALENDAR
VERSION:2.0
PRODID:-//wp-events-plugin.com//7.2.3.1//EN
TZID:Europe/Paris
X-WR-TIMEZONE:Europe/Paris
BEGIN:VEVENT
UID:283@scod-cyclosport.fr
DTSTART;TZID=Europe/Paris:20230806T083000
DTEND;TZID=Europe/Paris:20230806T120000
DTSTAMP:20230805T191044Z
URL:https://www.scod-cyclosport.fr/events/sortie-dominicale-64/
SUMMARY:Sortie dominicale
DESCRIPTION:Rdvs sur parking Crédit Agricole\n\nSortie annulée en cas de 
 pluie\n\n[Waymark map_id="8038"]
ATTACH;FMTTYPE=image/jpeg:https://www.scod-cyclosport.fr/wp-content/upload
 s/2022/05/istockphoto-544330072-612x612-1.jpg
CATEGORIES:Entrainements
LOCATION:Crédit Agricole Ahuy\, 4 Rue Pré Potet\, Ahuy\, Région Bourgogn
 e\, 21121\, Côte-d'Or\, France
GEO:47.357341;5.034556
X-APPLE-STRUCTURED-LOCATION;VALUE=URI;X-ADDRESS=4 Rue Pré Potet\, Ahuy\, R
 égion Bourgogne\, 21121\, Côte-d'Or\, France;X-APPLE-RADIUS=100;X-TITLE=
 Crédit Agricole Ahuy:geo:47.357341,5.034556
END:VEVENT
BEGIN:VTIMEZONE
TZID:Europe/Paris
X-LIC-LOCATION:Europe/Paris
BEGIN:DAYLIGHT
DTSTART:20230326T030000
TZOFFSETFROM:+0100
TZOFFSETTO:+0200
TZNAME:CEST
END:DAYLIGHT
END:VTIMEZONE
END:VCALENDAR