BEGIN:VCALENDAR
VERSION:2.0
PRODID:-//wp-events-plugin.com//7.2.3.1//EN
TZID:Europe/Paris
X-WR-TIMEZONE:Europe/Paris
BEGIN:VEVENT
UID:509@scod-cyclosport.fr
DTSTART;TZID=Europe/Paris:20250525T083000
DTEND;TZID=Europe/Paris:20250525T120000
DTSTAMP:20250523T161204Z
URL:https://www.scod-cyclosport.fr/events/sortie-du-25-mai/
SUMMARY:Sortie du 25 Mai
DESCRIPTION:[Waymark map_id="10220"]\n\nhttps://connect.garmin.com/modern/c
 ourse/359810725\n\n&nbsp\;\n\nDépart 8h30
ATTACH;FMTTYPE=image/jpeg:https://www.scod-cyclosport.fr/wp-content/upload
 s/2025/05/20250503-5-scaled.jpg
CATEGORIES:Entrainements
LOCATION:Pont de la Maison éclusière\, Ecluse 52 S des carrières blanche
 s\, Dijon\, Bourgogne-Franche-Comté\, 21000\, Côte-d'Or\, France
GEO:47.323327;5.003402
X-APPLE-STRUCTURED-LOCATION;VALUE=URI;X-ADDRESS=Ecluse 52 S des carrières 
 blanches\, Dijon\, Bourgogne-Franche-Comté\, 21000\, Côte-d'Or\, France;
 X-APPLE-RADIUS=100;X-TITLE=Pont de la Maison éclusière:geo:47.323327,5.0
 03402
END:VEVENT
BEGIN:VTIMEZONE
TZID:Europe/Paris
X-LIC-LOCATION:Europe/Paris
BEGIN:DAYLIGHT
DTSTART:20250330T030000
TZOFFSETFROM:+0100
TZOFFSETTO:+0200
TZNAME:CEST
END:DAYLIGHT
END:VTIMEZONE
END:VCALENDAR