BEGIN:VCALENDAR
VERSION:2.0
PRODID:-//wp-events-plugin.com//7.2.3.1//EN
TZID:Europe/Paris
X-WR-TIMEZONE:Europe/Paris
BEGIN:VEVENT
UID:577@scod-cyclosport.fr
DTSTART;TZID=Europe/Paris:20251123T090000
DTEND;TZID=Europe/Paris:20251123T120000
DTSTAMP:20251121T192914Z
URL:https://www.scod-cyclosport.fr/events/sortie-du-dimanche-23-novembre/
SUMMARY:Sortie du dimanche 23 novembre
DESCRIPTION:La sortie pourra être annulée en fonction des conditions clim
 atiques.\n\nRetour à partir de Chambolle en fonction des conditions clima
 tiques\n\n&nbsp\;\n\n[Waymark map_id="11012"]\n\nhttps://www.scod-cyclospo
 rt.fr/map/direction-sud-par-lest/
ATTACH;FMTTYPE=image/jpeg:https://www.scod-cyclosport.fr/wp-content/upload
 s/2025/11/cyclistes-velo-neige-hiver-route-gele-1024x768.jpg.webp
CATEGORIES:Entrainements
LOCATION:Vélodrome\, Boulevard Paul Doumer\, Dijon\, Bourgogne-Franche-Com
 té\, 21000\, Côte-d'Or\, France
GEO:47.32672;5.067176
X-APPLE-STRUCTURED-LOCATION;VALUE=URI;X-ADDRESS=Boulevard Paul Doumer\, Dij
 on\, Bourgogne-Franche-Comté\, 21000\, Côte-d'Or\, France;X-APPLE-RADIUS
 =100;X-TITLE=Vélodrome:geo:47.32672,5.067176
END:VEVENT
BEGIN:VTIMEZONE
TZID:Europe/Paris
X-LIC-LOCATION:Europe/Paris
BEGIN:STANDARD
DTSTART:20251026T020000
TZOFFSETFROM:+0200
TZOFFSETTO:+0100
TZNAME:CET
END:STANDARD
END:VTIMEZONE
END:VCALENDAR