BEGIN:VCALENDAR
VERSION:2.0
PRODID:-//wp-events-plugin.com//7.2.3.1//EN
TZID:Europe/Paris
X-WR-TIMEZONE:Europe/Paris
BEGIN:VEVENT
UID:571@scod-cyclosport.fr
DTSTART;TZID=Europe/Paris:20251109T090000
DTEND;TZID=Europe/Paris:20251109T120000
DTSTAMP:20251109T165104Z
URL:https://www.scod-cyclosport.fr/events/sortie-du-dimanche-de-la-st-theo
 dore/
SUMMARY:Sortie du dimanche de la St. Théodore
DESCRIPTION:[Waymark map_id="10955"]\n\nhttps://www.scod-cyclosport.fr/map/
 loscarsat/
ATTACH;FMTTYPE=image/jpeg:https://www.scod-cyclosport.fr/wp-content/upload
 s/2025/08/3750134-cycliste-vue-arriere-gratuit-vectoriel.jpg
CATEGORIES:Entrainements
LOCATION:Pont de la Maison éclusière\, Ecluse 52 S des carrières blanche
 s\, Dijon\, Bourgogne-Franche-Comté\, 21000\, Côte-d'Or\, France
GEO:47.323327;5.003402
X-APPLE-STRUCTURED-LOCATION;VALUE=URI;X-ADDRESS=Ecluse 52 S des carrières 
 blanches\, Dijon\, Bourgogne-Franche-Comté\, 21000\, Côte-d'Or\, France;
 X-APPLE-RADIUS=100;X-TITLE=Pont de la Maison éclusière:geo:47.323327,5.0
 03402
END:VEVENT
BEGIN:VTIMEZONE
TZID:Europe/Paris
X-LIC-LOCATION:Europe/Paris
BEGIN:STANDARD
DTSTART:20251026T020000
TZOFFSETFROM:+0200
TZOFFSETTO:+0100
TZNAME:CET
END:STANDARD
END:VTIMEZONE
END:VCALENDAR