BEGIN:VCALENDAR
VERSION:2.0
PRODID:-//wp-events-plugin.com//7.2.3.1//EN
TZID:Europe/Paris
X-WR-TIMEZONE:Europe/Paris
BEGIN:VEVENT
UID:486@scod-cyclosport.fr
DTSTART;TZID=Europe/Paris:20250316T090000
DTEND;TZID=Europe/Paris:20250316T121500
DTSTAMP:20250313T193928Z
URL:https://www.scod-cyclosport.fr/events/sortie-du-dimanche-de-la-ste-ben
 edicte/
SUMMARY:Sortie du dimanche de la Ste. Bénédicte
DESCRIPTION:Sortie Annulée en cas de pluie
ATTACH;FMTTYPE=image/jpeg:https://www.scod-cyclosport.fr/wp-content/upload
 s/2025/03/FEqXUHJx9EbNpVq4o3DDZpXq8KEcWh6SD7iJL0xJC88-1152x2048-1.jpg
CATEGORIES:Entrainements
LOCATION:Crédit Agricole Ahuy\, 4 Rue Pré Potet\, Ahuy\, Région Bourgogn
 e\, 21121\, Côte-d'Or\, France
GEO:47.357341;5.034556
X-APPLE-STRUCTURED-LOCATION;VALUE=URI;X-ADDRESS=4 Rue Pré Potet\, Ahuy\, R
 égion Bourgogne\, 21121\, Côte-d'Or\, France;X-APPLE-RADIUS=100;X-TITLE=
 Crédit Agricole Ahuy:geo:47.357341,5.034556
END:VEVENT
BEGIN:VTIMEZONE
TZID:Europe/Paris
X-LIC-LOCATION:Europe/Paris
BEGIN:STANDARD
DTSTART:20241027T020000
TZOFFSETFROM:+0200
TZOFFSETTO:+0100
TZNAME:CET
END:STANDARD
END:VTIMEZONE
END:VCALENDAR