BEGIN:VCALENDAR
VERSION:2.0
PRODID:-//wp-events-plugin.com//7.2.3.1//EN
TZID:Europe/Paris
X-WR-TIMEZONE:Europe/Paris
BEGIN:VEVENT
UID:530@scod-cyclosport.fr
DTSTART;TZID=Europe/Paris:20250720T080000
DTEND;TZID=Europe/Paris:20250720T120000
DTSTAMP:20250719T072919Z
URL:https://www.scod-cyclosport.fr/events/sortie-du-dimanche-de-la-ste-mar
 guerite/
SUMMARY:Sortie du dimanche de la Ste. Marguerite
DESCRIPTION:Sortie annulée en cas de pluie\n\n&nbsp\;\n\n[Waymark map_id="
 10489"]\n\n&nbsp\;\n\nhttps://www.scod-cyclosport.fr/map/le-jura-jusqua-mo
 ntmirey-la-ville/\n\n&nbsp\;
ATTACH;FMTTYPE=image/jpeg:https://www.scod-cyclosport.fr/wp-content/upload
 s/2025/07/20250711_123606-scaled.jpg
CATEGORIES:Entrainements
LOCATION:Vélodrome\, Boulevard Paul Doumer\, Dijon\, Bourgogne-Franche-Com
 té\, 21000\, Côte-d'Or\, France
GEO:47.32672;5.067176
X-APPLE-STRUCTURED-LOCATION;VALUE=URI;X-ADDRESS=Boulevard Paul Doumer\, Dij
 on\, Bourgogne-Franche-Comté\, 21000\, Côte-d'Or\, France;X-APPLE-RADIUS
 =100;X-TITLE=Vélodrome:geo:47.32672,5.067176
END:VEVENT
BEGIN:VTIMEZONE
TZID:Europe/Paris
X-LIC-LOCATION:Europe/Paris
BEGIN:DAYLIGHT
DTSTART:20250330T030000
TZOFFSETFROM:+0100
TZOFFSETTO:+0200
TZNAME:CEST
END:DAYLIGHT
END:VTIMEZONE
END:VCALENDAR