BEGIN:VCALENDAR
VERSION:2.0
PRODID:-//wp-events-plugin.com//7.2.3.1//EN
TZID:Europe/Paris
X-WR-TIMEZONE:Europe/Paris
BEGIN:VEVENT
UID:511@scod-cyclosport.fr
DTSTART;TZID=Europe/Paris:20250531T083000
DTEND;TZID=Europe/Paris:20250531T120000
DTSTAMP:20250530T150529Z
URL:https://www.scod-cyclosport.fr/events/sortie-du-samedi-31-mai/
SUMMARY:Sortie du Samedi 31 Mai
DESCRIPTION:[Waymark map_id="10240"]\n\n&nbsp\;\n\nhttps://connect.garmin.c
 om/modern/course/361664042
ATTACH;FMTTYPE=image/jpeg:https://www.scod-cyclosport.fr/wp-content/upload
 s/2025/01/IMG-20230529-WA0051.jpg
CATEGORIES:Entrainements
LOCATION:Vélodrome\, Boulevard Paul Doumer\, Dijon\, Bourgogne-Franche-Com
 té\, 21000\, Côte-d'Or\, France
GEO:47.32672;5.067176
X-APPLE-STRUCTURED-LOCATION;VALUE=URI;X-ADDRESS=Boulevard Paul Doumer\, Dij
 on\, Bourgogne-Franche-Comté\, 21000\, Côte-d'Or\, France;X-APPLE-RADIUS
 =100;X-TITLE=Vélodrome:geo:47.32672,5.067176
END:VEVENT
BEGIN:VTIMEZONE
TZID:Europe/Paris
X-LIC-LOCATION:Europe/Paris
BEGIN:DAYLIGHT
DTSTART:20250330T030000
TZOFFSETFROM:+0100
TZOFFSETTO:+0200
TZNAME:CEST
END:DAYLIGHT
END:VTIMEZONE
END:VCALENDAR