BEGIN:VCALENDAR
VERSION:2.0
PRODID:-//wp-events-plugin.com//7.2.3.1//EN
TZID:Europe/Paris
X-WR-TIMEZONE:Europe/Paris
BEGIN:VEVENT
UID:268@scod-cyclosport.fr
DTSTART;TZID=Europe/Paris:20230617T083000
DTEND;TZID=Europe/Paris:20230617T121500
DTSTAMP:20230618T170912Z
URL:https://www.scod-cyclosport.fr/events/sortie-publistick-du-17-juin/
SUMMARY:Sortie Publistick du 17 juin
DESCRIPTION:Départ du vélodrome à 8h30 pour rejoindre Publistick à Senn
 ecey les Dijon\n\n\n\n[Waymark map_id="7891"]\n\n[Waymark map_id="7889"]
ATTACH;FMTTYPE=image/jpeg:https://www.scod-cyclosport.fr/wp-content/upload
 s/2023/06/Sortie-Publistick-1.jpg
CATEGORIES:Entrainements
LOCATION:Vélodrome\, Boulevard Paul Doumer\, Dijon\, Bourgogne-Franche-Com
 té\, 21000\, Côte-d'Or\, France
GEO:47.32672;5.067176
X-APPLE-STRUCTURED-LOCATION;VALUE=URI;X-ADDRESS=Boulevard Paul Doumer\, Dij
 on\, Bourgogne-Franche-Comté\, 21000\, Côte-d'Or\, France;X-APPLE-RADIUS
 =100;X-TITLE=Vélodrome:geo:47.32672,5.067176
END:VEVENT
BEGIN:VTIMEZONE
TZID:Europe/Paris
X-LIC-LOCATION:Europe/Paris
BEGIN:DAYLIGHT
DTSTART:20230326T030000
TZOFFSETFROM:+0100
TZOFFSETTO:+0200
TZNAME:CEST
END:DAYLIGHT
END:VTIMEZONE
END:VCALENDAR