BEGIN:VCALENDAR
VERSION:2.0
PRODID:-//wp-events-plugin.com//7.2.3.1//EN
TZID:Europe/Paris
X-WR-TIMEZONE:Europe/Paris
BEGIN:VEVENT
UID:535@scod-cyclosport.fr
DTSTART;TZID=Europe/Paris:20250803T083000
DTEND;TZID=Europe/Paris:20250803T120000
DTSTAMP:20250801T202553Z
URL:https://www.scod-cyclosport.fr/events/une-maggioni-de-recup/
SUMMARY:Une Maggioni de Récup
DESCRIPTION:ATTENTION départ à 8H30\n\n&nbsp\;\n\n[Waymark map_id="10534"
 ]\n\nhttps://www.scod-cyclosport.fr/map/une-grande-maggioni/
ATTACH;FMTTYPE=image/jpeg:https://www.scod-cyclosport.fr/wp-content/upload
 s/2025/07/yV6_08RuPNrIsHpL7LDfzdD95mpJfPBYV5AqjBbYemc-1638x2048-1.jpg
CATEGORIES:Entrainements
LOCATION:Vélodrome\, Boulevard Paul Doumer\, Dijon\, Bourgogne-Franche-Com
 té\, 21000\, Côte-d'Or\, France
GEO:47.32672;5.067176
X-APPLE-STRUCTURED-LOCATION;VALUE=URI;X-ADDRESS=Boulevard Paul Doumer\, Dij
 on\, Bourgogne-Franche-Comté\, 21000\, Côte-d'Or\, France;X-APPLE-RADIUS
 =100;X-TITLE=Vélodrome:geo:47.32672,5.067176
END:VEVENT
BEGIN:VTIMEZONE
TZID:Europe/Paris
X-LIC-LOCATION:Europe/Paris
BEGIN:DAYLIGHT
DTSTART:20250330T030000
TZOFFSETFROM:+0100
TZOFFSETTO:+0200
TZNAME:CEST
END:DAYLIGHT
END:VTIMEZONE
END:VCALENDAR