BEGIN:VCALENDAR
VERSION:2.0
PRODID:-//wp-events-plugin.com//7.2.3.1//EN
TZID:Europe/Paris
X-WR-TIMEZONE:Europe/Paris
BEGIN:VEVENT
UID:303@scod-cyclosport.fr
DTSTART;TZID=Europe/Paris:20230923T083000
DTEND;TZID=Europe/Paris:20230923T120000
DTSTAMP:20230920T202634Z
URL:https://www.scod-cyclosport.fr/events/vivons-velo-ag2r-la-mondiale/
SUMMARY:Vivons vélo AG2R La Mondiale
DESCRIPTION:Départ du parking CA pour encadrement de la sortie Vivons Vél
 o (Coooool Raoul)\nPage d'inscription\n&nbsp\;\n\n
CATEGORIES:Entrainements
LOCATION:Crédit Agricole Ahuy\, 4 Rue Pré Potet\, Ahuy\, Région Bourgogn
 e\, 21121\, Côte-d'Or\, France
GEO:47.357341;5.034556
X-APPLE-STRUCTURED-LOCATION;VALUE=URI;X-ADDRESS=4 Rue Pré Potet\, Ahuy\, R
 égion Bourgogne\, 21121\, Côte-d'Or\, France;X-APPLE-RADIUS=100;X-TITLE=
 Crédit Agricole Ahuy:geo:47.357341,5.034556
END:VEVENT
BEGIN:VTIMEZONE
TZID:Europe/Paris
X-LIC-LOCATION:Europe/Paris
BEGIN:DAYLIGHT
DTSTART:20230326T030000
TZOFFSETFROM:+0100
TZOFFSETTO:+0200
TZNAME:CEST
END:DAYLIGHT
END:VTIMEZONE
END:VCALENDAR